BEGIN:VCALENDAR
VERSION:2.0
PRODID:-//wp-events-plugin.com//7.2.3.1//EN
TZID:America/New_York
X-WR-TIMEZONE:America/New_York
BEGIN:VEVENT
UID:198@pbslds.org
DTSTART;TZID=America/New_York:20170519T140000
DTEND;TZID=America/New_York:20170519T140000
DTSTAMP:20170206T220815Z
URL:https://pbslds.org/events/pars-fore-purpose-7th-annual-golf-classic-2/
SUMMARY:Pars Fore Purpose 7th Annual Golf Classic
DESCRIPTION:Register for the Golf Tournament here\n
CATEGORIES:SCF Events
LOCATION:Patriots Glen National Golf Club\, 300 Patriots Way\, Elkton\, MD\
 , 21921\, United States
GEO:39.621695;-75.80829
X-APPLE-STRUCTURED-LOCATION;VALUE=URI;X-ADDRESS=300 Patriots Way\, Elkton\,
  MD\, 21921\, United States;X-APPLE-RADIUS=100;X-TITLE=Patriots Glen Natio
 nal Golf Club:geo:39.621695,-75.80829
END:VEVENT
BEGIN:VTIMEZONE
TZID:America/New_York
X-LIC-LOCATION:America/New_York
BEGIN:DAYLIGHT
DTSTART:20170312T030000
TZOFFSETFROM:-0500
TZOFFSETTO:-0400
TZNAME:EDT
END:DAYLIGHT
END:VTIMEZONE
END:VCALENDAR