BEGIN:VCALENDAR
VERSION:2.0
PRODID:-//wp-events-plugin.com//7.2.3.1//EN
TZID:America/New_York
X-WR-TIMEZONE:America/New_York
BEGIN:VEVENT
UID:175@pbslds.org
DTSTART;TZID=America/New_York:20160520T140000
DTEND;TZID=America/New_York:20160520T140000
DTSTAMP:20160323T160012Z
URL:https://pbslds.org/events/pars-fore-purpose-6th-annual-golf-classic/
SUMMARY:Pars Fore Purpose 6th Annual Golf Classic
DESCRIPTION:\nCome out and support this great event!\nRegister HERE!\nOr do
 wnload the registration form and mail it in HERE!\n&nbsp\;\n\n
CATEGORIES:SCF Events
LOCATION:Patriots Glen National Golf Club\, 300 Patriots Way\, Elkton\, MD\
 , 21921\, United States
GEO:39.621695;-75.80829
X-APPLE-STRUCTURED-LOCATION;VALUE=URI;X-ADDRESS=300 Patriots Way\, Elkton\,
  MD\, 21921\, United States;X-APPLE-RADIUS=100;X-TITLE=Patriots Glen Natio
 nal Golf Club:geo:39.621695,-75.80829
END:VEVENT
BEGIN:VTIMEZONE
TZID:America/New_York
X-LIC-LOCATION:America/New_York
BEGIN:DAYLIGHT
DTSTART:20160313T030000
TZOFFSETFROM:-0500
TZOFFSETTO:-0400
TZNAME:EDT
END:DAYLIGHT
END:VTIMEZONE
END:VCALENDAR