BEGIN:VCALENDAR
VERSION:2.0
PRODID:-//wp-events-plugin.com//7.2.3.1//EN
TZID:America/New_York
X-WR-TIMEZONE:America/New_York
BEGIN:VEVENT
UID:178@pbslds.org
DTSTART;TZID=America/New_York:20160507T120000
DTEND;TZID=America/New_York:20160507T160000
DTSTAMP:20160428T213333Z
URL:https://pbslds.org/events/pan-hellenic-chat-chew-a-road-map-to-mentori
 ng/
SUMMARY:Pan-Hellenic Chat & Chew "A Road-Map to Mentoring"
DESCRIPTION:Hosted by: Lambda Delta Sigma Chapter\nBro. Dr. Dwayne Dixon\n\
 nLocation:\nTransformation Christian Worship Center\n240 South Dupont High
 way\nNew Castle\, DE 19720\n\nMay 7\, 2016\n12:00 PM - 4:00 PM\n\nPan-Hell
 enic Chat and Chew Flyer
CATEGORIES:NPHC Events
LOCATION:Transformation Christian Worship Center\, 240 South Dupont Highway
 \, New Castle\, DE\, 19720\, United States
GEO:39.6533257;-75.61656670000002
X-APPLE-STRUCTURED-LOCATION;VALUE=URI;X-ADDRESS=240 South Dupont Highway\, 
 New Castle\, DE\, 19720\, United States;X-APPLE-RADIUS=100;X-TITLE=Transfo
 rmation Christian Worship Center:geo:39.6533257,-75.61656670000002
END:VEVENT
BEGIN:VTIMEZONE
TZID:America/New_York
X-LIC-LOCATION:America/New_York
BEGIN:DAYLIGHT
DTSTART:20160313T030000
TZOFFSETFROM:-0500
TZOFFSETTO:-0400
TZNAME:EDT
END:DAYLIGHT
END:VTIMEZONE
END:VCALENDAR