BEGIN:VCALENDAR
VERSION:2.0
PRODID:-//wp-events-plugin.com//7.2.3.1//EN
TZID:America/New_York
X-WR-TIMEZONE:America/New_York
BEGIN:VEVENT
UID:678@pbslds.org
DTSTART;TZID=America/New_York:20240210T200000
DTEND;TZID=America/New_York:20240210T235900
DTSTAMP:20240102T133950Z
URL:https://pbslds.org/events/omega-sweetheart-ball-2024/
SUMMARY:Omega Sweetheart Ball 2024
DESCRIPTION:Click image for Tickets and More Info\n\n\n
CATEGORIES:NPHC Events
LOCATION:Executive Banquet and Conference Center\, 205 Executive Drive\, Ne
 wark\, DE\, 19702\, United States
GEO:39.615491;-75.748119
X-APPLE-STRUCTURED-LOCATION;VALUE=URI;X-ADDRESS=205 Executive Drive\, Newar
 k\, DE\, 19702\, United States;X-APPLE-RADIUS=100;X-TITLE=Executive Banque
 t and Conference Center:geo:39.615491,-75.748119
END:VEVENT
BEGIN:VTIMEZONE
TZID:America/New_York
X-LIC-LOCATION:America/New_York
BEGIN:STANDARD
DTSTART:20231105T010000
TZOFFSETFROM:-0400
TZOFFSETTO:-0500
TZNAME:EST
END:STANDARD
END:VTIMEZONE
END:VCALENDAR