BEGIN:VCALENDAR
VERSION:2.0
PRODID:-//wp-events-plugin.com//7.2.3.1//EN
TZID:America/New_York
X-WR-TIMEZONE:America/New_York
BEGIN:VEVENT
UID:474@pbslds.org
DTSTART;TZID=America/New_York:20221022T180000
DTEND;TZID=America/New_York:20221022T230000
DTSTAMP:20220829T000920Z
URL:https://pbslds.org/events/nu-sigma-chapter-centennial-gala/
SUMMARY:Nu Sigma Chapter Centennial Gala
DESCRIPTION:SEE BRO. SHAW FOR YOUR TICKET (OR CLICK THE LINK BELOW)\n\n
CATEGORIES:PBS Eastern Region Events
LOCATION:Live! Casino & Hotel Philadelphia\, 900 Packer Avenue\, Philadelph
 ia\, PA\, 19148\, United States
X-APPLE-STRUCTURED-LOCATION;VALUE=URI;X-ADDRESS=900 Packer Avenue\, Philade
 lphia\, PA\, 19148\, United States;X-APPLE-RADIUS=100;X-TITLE=Live! Casino
  & Hotel Philadelphia:geo:0,0
END:VEVENT
BEGIN:VTIMEZONE
TZID:America/New_York
X-LIC-LOCATION:America/New_York
BEGIN:DAYLIGHT
DTSTART:20220313T030000
TZOFFSETFROM:-0500
TZOFFSETTO:-0400
TZNAME:EDT
END:DAYLIGHT
END:VTIMEZONE
END:VCALENDAR