BEGIN:VCALENDAR
VERSION:2.0
PRODID:-//wp-events-plugin.com//7.2.3.1//EN
TZID:America/New_York
X-WR-TIMEZONE:America/New_York
BEGIN:VEVENT
UID:606@pbslds.org
DTSTART;TZID=America/New_York:20230818T180000
DTEND;TZID=America/New_York:20230818T210000
DTSTAMP:20230816T130705Z
URL:https://pbslds.org/events/nphc-week-meet-greek-with-central-delaware-n
 phc/
SUMMARY:NPHC Week: "Meet & Greek" with Central Delaware NPHC
DESCRIPTION:
CATEGORIES:NPHC Events
LOCATION:Crooked Hammock\, 316 Auto Park Dr\, Middletown\, DE\, 19709\, Uni
 ted States
X-APPLE-STRUCTURED-LOCATION;VALUE=URI;X-ADDRESS=316 Auto Park Dr\, Middleto
 wn\, DE\, 19709\, United States;X-APPLE-RADIUS=100;X-TITLE=Crooked Hammock
 :geo:0,0
END:VEVENT
BEGIN:VTIMEZONE
TZID:America/New_York
X-LIC-LOCATION:America/New_York
BEGIN:DAYLIGHT
DTSTART:20230312T030000
TZOFFSETFROM:-0500
TZOFFSETTO:-0400
TZNAME:EDT
END:DAYLIGHT
END:VTIMEZONE
END:VCALENDAR