BEGIN:VCALENDAR
VERSION:2.0
PRODID:-//wp-events-plugin.com//7.2.3.1//EN
TZID:America/New_York
X-WR-TIMEZONE:America/New_York
BEGIN:VEVENT
UID:483@pbslds.org
DTSTART;TZID=America/New_York;VALUE=DATE:20220809
DTEND;TZID=America/New_York;VALUE=DATE:20220810
DTSTAMP:20220719T192655Z
URL:https://pbslds.org/events/nphc-week-greene-turtle-fundraiser/
SUMMARY:NPHC Week: Greene Turtle Fundraiser
DESCRIPTION:CLICK FOR THE PRINTABLE GREENE TURTLE FLYER\n
CATEGORIES:NPHC Events
LOCATION:Greene Turtle Christiana\, 425 Stanton Christiana Road\, Christian
 a\, DE\, 19713\, United States
X-APPLE-STRUCTURED-LOCATION;VALUE=URI;X-ADDRESS=425 Stanton Christiana Road
 \, Christiana\, DE\, 19713\, United States;X-APPLE-RADIUS=100;X-TITLE=Gree
 ne Turtle Christiana:geo:0,0
END:VEVENT
BEGIN:VTIMEZONE
TZID:America/New_York
X-LIC-LOCATION:America/New_York
BEGIN:DAYLIGHT
DTSTART:20220313T030000
TZOFFSETFROM:-0500
TZOFFSETTO:-0400
TZNAME:EDT
END:DAYLIGHT
END:VTIMEZONE
END:VCALENDAR