BEGIN:VCALENDAR
VERSION:2.0
PRODID:-//wp-events-plugin.com//7.2.3.1//EN
TZID:America/New_York
X-WR-TIMEZONE:America/New_York
BEGIN:VEVENT
UID:607@pbslds.org
DTSTART;TZID=America/New_York:20230819T110000
DTEND;TZID=America/New_York:20230819T180000
DTSTAMP:20230816T130925Z
URL:https://pbslds.org/events/nphc-week-greek-cookout-lums-pond/
SUMMARY:NPHC Week: Greek Cookout @ Lums Pond
DESCRIPTION:Reminder: We Need Coordinators/Volunteers!\n\n
CATEGORIES:NPHC Events
LOCATION:Lums Pond (Picnic Area 4)\, 1068 Howell School Road\, Bear\, DE\, 
 19701\, United States
X-APPLE-STRUCTURED-LOCATION;VALUE=URI;X-ADDRESS=1068 Howell School Road\, B
 ear\, DE\, 19701\, United States;X-APPLE-RADIUS=100;X-TITLE=Lums Pond (Pic
 nic Area 4):geo:0,0
END:VEVENT
BEGIN:VTIMEZONE
TZID:America/New_York
X-LIC-LOCATION:America/New_York
BEGIN:DAYLIGHT
DTSTART:20230312T030000
TZOFFSETFROM:-0500
TZOFFSETTO:-0400
TZNAME:EDT
END:DAYLIGHT
END:VTIMEZONE
END:VCALENDAR