BEGIN:VCALENDAR
VERSION:2.0
PRODID:-//wp-events-plugin.com//7.2.3.1//EN
TZID:America/New_York
X-WR-TIMEZONE:America/New_York
BEGIN:VEVENT
UID:605@pbslds.org
DTSTART;TZID=America/New_York:20230817T180000
DTEND;TZID=America/New_York:20230817T210000
DTSTAMP:20230816T130552Z
URL:https://pbslds.org/events/nphc-week-fellowship-at-e-squared/
SUMMARY:NPHC Week: Fellowship at E Squared
DESCRIPTION:
CATEGORIES:NPHC Events
LOCATION:E Squared Cigar Lounge\, 3616 Kirkwood Highway\, Wilmington\, DE\,
  19808\, United States
X-APPLE-STRUCTURED-LOCATION;VALUE=URI;X-ADDRESS=3616 Kirkwood Highway\, Wil
 mington\, DE\, 19808\, United States;X-APPLE-RADIUS=100;X-TITLE=E Squared 
 Cigar Lounge:geo:0,0
END:VEVENT
BEGIN:VTIMEZONE
TZID:America/New_York
X-LIC-LOCATION:America/New_York
BEGIN:DAYLIGHT
DTSTART:20230312T030000
TZOFFSETFROM:-0500
TZOFFSETTO:-0400
TZNAME:EDT
END:DAYLIGHT
END:VTIMEZONE
END:VCALENDAR