BEGIN:VCALENDAR
VERSION:2.0
PRODID:-//wp-events-plugin.com//7.2.3.1//EN
TZID:America/New_York
X-WR-TIMEZONE:America/New_York
BEGIN:VEVENT
UID:484@pbslds.org
DTSTART;TZID=America/New_York:20220811T170000
DTEND;TZID=America/New_York:20220811T230000
DTSTAMP:20220719T193133Z
URL:https://pbslds.org/events/nphc-week-crooked-hammock-fundraiser/
SUMMARY:NPHC Week: Crooked Hammock Fundraiser
DESCRIPTION:CLICK FOR THE PRINTABLE CROOKED HAMMOCK FLYER\n
CATEGORIES:NPHC Events
LOCATION:Crooked Hammock\, 316 Auto Park Dr\, Middletown\, DE\, 19709\, Uni
 ted States
X-APPLE-STRUCTURED-LOCATION;VALUE=URI;X-ADDRESS=316 Auto Park Dr\, Middleto
 wn\, DE\, 19709\, United States;X-APPLE-RADIUS=100;X-TITLE=Crooked Hammock
 :geo:0,0
END:VEVENT
BEGIN:VTIMEZONE
TZID:America/New_York
X-LIC-LOCATION:America/New_York
BEGIN:DAYLIGHT
DTSTART:20220313T030000
TZOFFSETFROM:-0500
TZOFFSETTO:-0400
TZNAME:EDT
END:DAYLIGHT
END:VTIMEZONE
END:VCALENDAR