BEGIN:VCALENDAR
VERSION:2.0
PRODID:-//wp-events-plugin.com//7.2.3.1//EN
TZID:America/New_York
X-WR-TIMEZONE:America/New_York
BEGIN:VEVENT
UID:482@pbslds.org
DTSTART;TZID=America/New_York:20220807T093000
DTEND;TZID=America/New_York:20220807T113000
DTSTAMP:20220719T192128Z
URL:https://pbslds.org/events/nphc-week-church-service/
SUMMARY:NPHC Week: Church Service
DESCRIPTION:
CATEGORIES:NPHC Events
LOCATION:St. Paul's UAME Church\, 3114 N Market St\, Wilmington\, Delaware\
 , 19802\, United States
X-APPLE-STRUCTURED-LOCATION;VALUE=URI;X-ADDRESS=3114 N Market St\, Wilmingt
 on\, Delaware\, 19802\, United States;X-APPLE-RADIUS=100;X-TITLE=St. Paul'
 s UAME Church:geo:0,0
END:VEVENT
BEGIN:VTIMEZONE
TZID:America/New_York
X-LIC-LOCATION:America/New_York
BEGIN:DAYLIGHT
DTSTART:20220313T030000
TZOFFSETFROM:-0500
TZOFFSETTO:-0400
TZNAME:EDT
END:DAYLIGHT
END:VTIMEZONE
END:VCALENDAR