BEGIN:VCALENDAR
VERSION:2.0
PRODID:-//wp-events-plugin.com//7.2.3.1//EN
TZID:America/New_York
X-WR-TIMEZONE:America/New_York
BEGIN:VEVENT
UID:618@pbslds.org
DTSTART;TZID=America/New_York:20231119T180000
DTEND;TZID=America/New_York:20231119T200000
DTSTAMP:20231002T134459Z
URL:https://pbslds.org/events/nphc-thanksgiving-packing-event/
SUMMARY:NPHC Thanksgiving: Packing Event
DESCRIPTION:Once again\, the NPHC is partnering with NOR Enterprises for th
 e Thanksgiving Turkey Drive.
CATEGORIES:NPHC Events
LOCATION:Simpson United Methodist Church\, 907 Centerville Road\, Wilmingto
 n\, DE\, 19804\, United States
X-APPLE-STRUCTURED-LOCATION;VALUE=URI;X-ADDRESS=907 Centerville Road\, Wilm
 ington\, DE\, 19804\, United States;X-APPLE-RADIUS=100;X-TITLE=Simpson Uni
 ted Methodist Church:geo:0,0
END:VEVENT
BEGIN:VTIMEZONE
TZID:America/New_York
X-LIC-LOCATION:America/New_York
BEGIN:STANDARD
DTSTART:20231105T010000
TZOFFSETFROM:-0400
TZOFFSETTO:-0500
TZNAME:EST
END:STANDARD
END:VTIMEZONE
END:VCALENDAR