BEGIN:VCALENDAR
VERSION:2.0
PRODID:-//wp-events-plugin.com//7.2.3.1//EN
TZID:America/New_York
X-WR-TIMEZONE:America/New_York
BEGIN:VEVENT
UID:619@pbslds.org
DTSTART;TZID=America/New_York:20231121T080000
DTEND;TZID=America/New_York:20231121T100000
DTSTAMP:20231002T134554Z
URL:https://pbslds.org/events/nphc-thanksgiving-distribution/
SUMMARY:NPHC Thanksgiving: Distribution
DESCRIPTION:
CATEGORIES:NPHC Events
LOCATION:Compton Towers\, 325 E 5th Street\, Wilmington\, DE\, 19801\, Unit
 ed States
X-APPLE-STRUCTURED-LOCATION;VALUE=URI;X-ADDRESS=325 E 5th Street\, Wilmingt
 on\, DE\, 19801\, United States;X-APPLE-RADIUS=100;X-TITLE=Compton Towers:
 geo:0,0
END:VEVENT
BEGIN:VTIMEZONE
TZID:America/New_York
X-LIC-LOCATION:America/New_York
BEGIN:STANDARD
DTSTART:20231105T010000
TZOFFSETFROM:-0400
TZOFFSETTO:-0500
TZNAME:EST
END:STANDARD
END:VTIMEZONE
END:VCALENDAR