BEGIN:VCALENDAR
VERSION:2.0
PRODID:-//wp-events-plugin.com//7.2.3.1//EN
TZID:America/New_York
X-WR-TIMEZONE:America/New_York
BEGIN:VEVENT
UID:503@pbslds.org
DTSTART;TZID=America/New_York:20221120T170000
DTEND;TZID=America/New_York:20221120T200000
DTSTAMP:20221114T194949Z
URL:https://pbslds.org/events/nphc-thanksgiving-basket-packing-planning/
SUMMARY:NPHC Thanksgiving Basket Packing/Planning
DESCRIPTION:Brothers\, let us pitch in to provide support on both days!\n\n
 Sunday 11/20: Packing and Planning (Simpson UM Church\, Wilmington)\, 5pm\
 n\nTuesday 11/22: Distribution (Compton Towers\, Wilmington) Time TBD\n\n
CATEGORIES:NPHC Events
LOCATION:Simpson United Methodist Church\, 907 Centerville Road\, Wilmingto
 n\, DE\, 19804\, United States
X-APPLE-STRUCTURED-LOCATION;VALUE=URI;X-ADDRESS=907 Centerville Road\, Wilm
 ington\, DE\, 19804\, United States;X-APPLE-RADIUS=100;X-TITLE=Simpson Uni
 ted Methodist Church:geo:0,0
END:VEVENT
BEGIN:VTIMEZONE
TZID:America/New_York
X-LIC-LOCATION:America/New_York
BEGIN:STANDARD
DTSTART:20221106T010000
TZOFFSETFROM:-0400
TZOFFSETTO:-0500
TZNAME:EST
END:STANDARD
END:VTIMEZONE
END:VCALENDAR