BEGIN:VCALENDAR
VERSION:2.0
PRODID:-//wp-events-plugin.com//7.2.3.1//EN
TZID:America/New_York
X-WR-TIMEZONE:America/New_York
BEGIN:VEVENT
UID:504@pbslds.org
DTSTART;TZID=America/New_York:20221122T080000
DTEND;TZID=America/New_York:20221122T120000
DTSTAMP:20221114T195215Z
URL:https://pbslds.org/events/nphc-thanksgiving-basket-distribution/
SUMMARY:NPHC Thanksgiving Basket Distribution
DESCRIPTION:Brothers\, let us pitch in to provide support on both days!\n\n
 Sunday 11/20: Packing and Planning (Simpson UM Church\, Wilmington)\, 5pm\
 n\nTuesday 11/22: Distribution (Compton Towers\, Wilmington) Time TBD\n\n
CATEGORIES:NPHC Events
LOCATION:Compton Towers\, 325 E 5th Street\, Wilmington\, DE\, 19801\, Unit
 ed States
X-APPLE-STRUCTURED-LOCATION;VALUE=URI;X-ADDRESS=325 E 5th Street\, Wilmingt
 on\, DE\, 19801\, United States;X-APPLE-RADIUS=100;X-TITLE=Compton Towers:
 geo:0,0
END:VEVENT
BEGIN:VTIMEZONE
TZID:America/New_York
X-LIC-LOCATION:America/New_York
BEGIN:STANDARD
DTSTART:20221106T010000
TZOFFSETFROM:-0400
TZOFFSETTO:-0500
TZNAME:EST
END:STANDARD
END:VTIMEZONE
END:VCALENDAR