BEGIN:VCALENDAR
VERSION:2.0
PRODID:-//wp-events-plugin.com//7.2.3.1//EN
TZID:America/New_York
X-WR-TIMEZONE:America/New_York
BEGIN:VEVENT
UID:191@pbslds.org
DTSTART;TZID=America/New_York:20160820T110000
DTEND;TZID=America/New_York:20160820T180000
DTSTAMP:20160808T134143Z
URL:https://pbslds.org/events/new-castle-county-nphc-annual-bbq-2016/
SUMMARY:New Castle County NPHC Annual BBQ
DESCRIPTION:\n\n&nbsp\;\n\nIt's the end of the summer fellowship event of t
 he year that you don't want to miss.\n\nSo.....\n\nPlease come out and joi
 n the New Castle County NPHC for our Annual Greek BBQ.\n\nPlease represent
  your organization with your colors and letters and bring your swag!\n\n$5
  Admission\, Live Music &amp\; DJ\, Food and vendors!\nChildren 12 and und
 er are Free!\n\nPlease bring a chair for your self and someone else as we 
 ran out of sitting space last year and were expecting more this year.\n\nP
 ortion of the collected proceeds will be donated to a local school!
CATEGORIES:NPHC Events
LOCATION:Weiss Park\, 164 Aspen Drive\, Newark\, DE\, United States
GEO:39.6433026;-75.69129029999999
X-APPLE-STRUCTURED-LOCATION;VALUE=URI;X-ADDRESS=164 Aspen Drive\, Newark\, 
 DE\, United States;X-APPLE-RADIUS=100;X-TITLE=Weiss Park:geo:39.6433026,-7
 5.69129029999999
END:VEVENT
BEGIN:VTIMEZONE
TZID:America/New_York
X-LIC-LOCATION:America/New_York
BEGIN:DAYLIGHT
DTSTART:20160313T030000
TZOFFSETFROM:-0500
TZOFFSETTO:-0400
TZNAME:EDT
END:DAYLIGHT
END:VTIMEZONE
END:VCALENDAR