BEGIN:VCALENDAR
VERSION:2.0
PRODID:-//wp-events-plugin.com//7.2.3.1//EN
TZID:America/New_York
X-WR-TIMEZONE:America/New_York
BEGIN:VEVENT
UID:680@pbslds.org
DTSTART;TZID=America/New_York:20240114T100000
DTEND;TZID=America/New_York:20240114T120000
DTSTAMP:20240113T195106Z
URL:https://pbslds.org/events/neil-reeves-preaches-the-gospel/
SUMMARY:Neil Reeves Preaches the Gospel
DESCRIPTION:
CATEGORIES:LDS Events
LOCATION:Marshallton UM Church\, 1105 Stanton Road\, Wilmington\, DE\, 1980
 8\, United States
GEO:39.726688;-75.638584
X-APPLE-STRUCTURED-LOCATION;VALUE=URI;X-ADDRESS=1105 Stanton Road\, Wilming
 ton\, DE\, 19808\, United States;X-APPLE-RADIUS=100;X-TITLE=Marshallton UM
  Church:geo:39.726688,-75.638584
END:VEVENT
BEGIN:VTIMEZONE
TZID:America/New_York
X-LIC-LOCATION:America/New_York
BEGIN:STANDARD
DTSTART:20231105T010000
TZOFFSETFROM:-0400
TZOFFSETTO:-0500
TZNAME:EST
END:STANDARD
END:VTIMEZONE
END:VCALENDAR