BEGIN:VCALENDAR
VERSION:2.0
PRODID:-//wp-events-plugin.com//7.2.3.1//EN
TZID:America/New_York
X-WR-TIMEZONE:America/New_York
BEGIN:VEVENT
UID:820@pbslds.org
DTSTART;TZID=America/New_York:20260106T180000
DTEND;TZID=America/New_York:20260106T200000
DTSTAMP:20260101T202756Z
URL:https://pbslds.org/events/move-with-sigma-zumba-the-wellness-way/
SUMMARY:Move with Sigma: Zumba the Wellness Way
DESCRIPTION:Click the image to register.\n\n
CATEGORIES:LDS Events
LOCATION:Positive Change Academy Newark Campus\, 179 Stanton-Christiana Roa
 d\, Newark\, DE\, 19702\, United States
X-APPLE-STRUCTURED-LOCATION;VALUE=URI;X-ADDRESS=179 Stanton-Christiana Road
 \, Newark\, DE\, 19702\, United States;X-APPLE-RADIUS=100;X-TITLE=Positive
  Change Academy Newark Campus:geo:0,0
END:VEVENT
BEGIN:VTIMEZONE
TZID:America/New_York
X-LIC-LOCATION:America/New_York
BEGIN:STANDARD
DTSTART:20251102T010000
TZOFFSETFROM:-0400
TZOFFSETTO:-0500
TZNAME:EST
END:STANDARD
END:VTIMEZONE
END:VCALENDAR