BEGIN:VCALENDAR
VERSION:2.0
PRODID:-//wp-events-plugin.com//7.2.3.1//EN
TZID:America/New_York
X-WR-TIMEZONE:America/New_York
BEGIN:VEVENT
UID:632@pbslds.org
DTSTART;TZID=America/New_York:20231120T193000
DTEND;TZID=America/New_York:20231120T233000
DTSTAMP:20231120T165410Z
URL:https://pbslds.org/events/monday-night-pop-up-at-the-greene-turtle/
SUMMARY:Monday Night "Pop-Up" at The Greene Turtle
DESCRIPTION: 
CATEGORIES:LDS Events,SCF Events
LOCATION:Greene Turtle Christiana\, 425 Stanton Christiana Road\, Christian
 a\, DE\, 19713\, United States
X-APPLE-STRUCTURED-LOCATION;VALUE=URI;X-ADDRESS=425 Stanton Christiana Road
 \, Christiana\, DE\, 19713\, United States;X-APPLE-RADIUS=100;X-TITLE=Gree
 ne Turtle Christiana:geo:0,0
END:VEVENT
BEGIN:VTIMEZONE
TZID:America/New_York
X-LIC-LOCATION:America/New_York
BEGIN:STANDARD
DTSTART:20231105T010000
TZOFFSETFROM:-0400
TZOFFSETTO:-0500
TZNAME:EST
END:STANDARD
END:VTIMEZONE
END:VCALENDAR