BEGIN:VCALENDAR
VERSION:2.0
PRODID:-//wp-events-plugin.com//7.2.3.1//EN
TZID:America/New_York
X-WR-TIMEZONE:America/New_York
BEGIN:VEVENT
UID:626@pbslds.org
DTSTART;TZID=America/New_York;VALUE=DATE:20231030
DTEND;TZID=America/New_York;VALUE=DATE:20231031
DTSTAMP:20231023T152544Z
URL:https://pbslds.org/events/men-of-solidarity-pink-for-the-cause/
SUMMARY:Men of Solidarity (Pink for the Cause)
DESCRIPTION:Please see flyer below for instructions.\n\n
CATEGORIES:Delaware Events,LDS Events
END:VEVENT
BEGIN:VTIMEZONE
TZID:America/New_York
X-LIC-LOCATION:America/New_York
BEGIN:DAYLIGHT
DTSTART:20230312T030000
TZOFFSETFROM:-0500
TZOFFSETTO:-0400
TZNAME:EDT
END:DAYLIGHT
END:VTIMEZONE
END:VCALENDAR