BEGIN:VCALENDAR
VERSION:2.0
PRODID:-//wp-events-plugin.com//7.2.3.1//EN
TZID:America/New_York
X-WR-TIMEZONE:America/New_York
BEGIN:VEVENT
UID:129@pbslds.org
DTSTART;TZID=America/New_York:20160424T090000
DTEND;TZID=America/New_York:20160424T120000
DTSTAMP:20160119T014340Z
URL:https://pbslds.org/events/march-4-babies-birth-defects/
SUMMARY:March 4 Babies - Birth Defects
DESCRIPTION:Join the Team or Donate:\n\nMarch for Babies Team Page
CATEGORIES:Events
LOCATION:University of Delaware\, Routes 4 and 896\, Newark\, DE\, 19711\, 
 United States
GEO:39.6653729;-75.77594369999997
X-APPLE-STRUCTURED-LOCATION;VALUE=URI;X-ADDRESS=Routes 4 and 896\, Newark\,
  DE\, 19711\, United States;X-APPLE-RADIUS=100;X-TITLE=University of Delaw
 are:geo:39.6653729,-75.77594369999997
END:VEVENT
BEGIN:VTIMEZONE
TZID:America/New_York
X-LIC-LOCATION:America/New_York
BEGIN:DAYLIGHT
DTSTART:20160313T030000
TZOFFSETFROM:-0500
TZOFFSETTO:-0400
TZNAME:EDT
END:DAYLIGHT
END:VTIMEZONE
END:VCALENDAR