BEGIN:VCALENDAR
VERSION:2.0
PRODID:-//wp-events-plugin.com//7.2.3.1//EN
TZID:America/New_York
X-WR-TIMEZONE:America/New_York
BEGIN:VEVENT
UID:614@pbslds.org
DTSTART;TZID=America/New_York:20231005T190000
DTEND;TZID=America/New_York:20231005T194500
DTSTAMP:20230929T104336Z
URL:https://pbslds.org/events/mandatory-executive-board-meeting-virtual/
SUMMARY:MANDATORY Executive Board Meeting (Virtual)
DESCRIPTION:Your Presence is Requested. If unable to attend\, please contac
 t Brother Shaw.\n\nTopic: LDS Executive Board Meeting\nTime: Oct 5\, 2023 
 07:00 PM Eastern Time (US and Canada)\n\nJoin Zoom Meeting\nhttps://us02we
 b.zoom.us/j/84445354296?pwd=NEcxMjhqcW1rcDFkTDk1cnY1aERNQT09\n\nMeeting ID
 : 844 4535 4296\nPasscode: LDS
CATEGORIES:LDS Board Meeting
END:VEVENT
BEGIN:VTIMEZONE
TZID:America/New_York
X-LIC-LOCATION:America/New_York
BEGIN:DAYLIGHT
DTSTART:20230312T030000
TZOFFSETFROM:-0500
TZOFFSETTO:-0400
TZNAME:EDT
END:DAYLIGHT
END:VTIMEZONE
END:VCALENDAR