BEGIN:VCALENDAR
VERSION:2.0
PRODID:-//wp-events-plugin.com//7.2.3.1//EN
TZID:America/New_York
X-WR-TIMEZONE:America/New_York
BEGIN:VEVENT
UID:624@pbslds.org
DTSTART;TZID=America/New_York;VALUE=DATE:20231017
DTEND;TZID=America/New_York;VALUE=DATE:20231023
DTSTAMP:20231016T001732Z
URL:https://pbslds.org/events/madison-washington-is-running-for-miss-pbs/
SUMMARY:Madison Washington is running for Miss PBS
DESCRIPTION:
CATEGORIES:LDS Events,Visiting Sigma Chapter Events
END:VEVENT
BEGIN:VTIMEZONE
TZID:America/New_York
X-LIC-LOCATION:America/New_York
BEGIN:DAYLIGHT
DTSTART:20230312T030000
TZOFFSETFROM:-0500
TZOFFSETTO:-0400
TZNAME:EDT
END:DAYLIGHT
END:VTIMEZONE
END:VCALENDAR