BEGIN:VCALENDAR
VERSION:2.0
PRODID:-//wp-events-plugin.com//7.2.3.1//EN
TZID:America/New_York
X-WR-TIMEZONE:America/New_York
BEGIN:VEVENT
UID:564@pbslds.org
DTSTART;TZID=America/New_York;VALUE=DATE:20230526
DTEND;TZID=America/New_York;VALUE=DATE:20230528
DTSTAMP:20230522T142751Z
URL:https://pbslds.org/events/lds-special-session/
SUMMARY:LDS Special Session
DESCRIPTION:Please check Chapter Correspondence for More Info.\n\n&nbsp\;\n
 \nQuestions: Contact Bro. Shaw.
CATEGORIES:LDS Events
END:VEVENT
BEGIN:VTIMEZONE
TZID:America/New_York
X-LIC-LOCATION:America/New_York
BEGIN:DAYLIGHT
DTSTART:20230312T030000
TZOFFSETFROM:-0500
TZOFFSETTO:-0400
TZNAME:EDT
END:DAYLIGHT
END:VTIMEZONE
END:VCALENDAR