BEGIN:VCALENDAR
VERSION:2.0
PRODID:-//wp-events-plugin.com//7.2.3.1//EN
TZID:America/New_York
X-WR-TIMEZONE:America/New_York
BEGIN:VEVENT
UID:136@pbslds.org
DTSTART;TZID=America/New_York:20160206T193000
DTEND;TZID=America/New_York:20160206T213000
DTSTAMP:20160119T015802Z
URL:https://pbslds.org/events/lds-sixers-game/
SUMMARY:LDS Sixers Game
DESCRIPTION:vs. the Brooklyn Nets
CATEGORIES:Events,LDS Events
LOCATION:Wells Fargo Center\, 3601 S Broad Street\, Philadelphia\, PA\, 191
 48\, United States
GEO:39.9010963;-75.17187430000001
X-APPLE-STRUCTURED-LOCATION;VALUE=URI;X-ADDRESS=3601 S Broad Street\, Phila
 delphia\, PA\, 19148\, United States;X-APPLE-RADIUS=100;X-TITLE=Wells Farg
 o Center:geo:39.9010963,-75.17187430000001
END:VEVENT
BEGIN:VTIMEZONE
TZID:America/New_York
X-LIC-LOCATION:America/New_York
BEGIN:STANDARD
DTSTART:20151101T010000
TZOFFSETFROM:-0400
TZOFFSETTO:-0500
TZNAME:EST
END:STANDARD
END:VTIMEZONE
END:VCALENDAR