BEGIN:VCALENDAR
VERSION:2.0
PRODID:-//wp-events-plugin.com//7.2.3.1//EN
TZID:America/New_York
X-WR-TIMEZONE:America/New_York
BEGIN:VEVENT
UID:133@pbslds.org
DTSTART;TZID=America/New_York;VALUE=DATE:20161020
DTEND;TZID=America/New_York;VALUE=DATE:20161021
DTSTAMP:20160119T015159Z
URL:https://pbslds.org/events/lds-reading-program/
SUMMARY:LDS Reading Program
DESCRIPTION:
CATEGORIES:Events,LDS Events
END:VEVENT
BEGIN:VTIMEZONE
TZID:America/New_York
X-LIC-LOCATION:America/New_York
BEGIN:DAYLIGHT
DTSTART:20160313T030000
TZOFFSETFROM:-0500
TZOFFSETTO:-0400
TZNAME:EDT
END:DAYLIGHT
END:VTIMEZONE
END:VCALENDAR