BEGIN:VCALENDAR
VERSION:2.0
PRODID:-//wp-events-plugin.com//7.2.3.1//EN
TZID:America/New_York
X-WR-TIMEZONE:America/New_York
BEGIN:VEVENT
UID:623@pbslds.org
DTSTART;TZID=America/New_York:20240209T190000
DTEND;TZID=America/New_York:20240209T220000
DTSTAMP:20240119T192748Z
URL:https://pbslds.org/events/lds-night-at-the-sixers/
SUMMARY:LDS Night at the Sixers
DESCRIPTION:LIMITED TICKETS ($125) REMAIN. PLEASE CONTACT BRO. BUTLER ASAP.
 \nFriday\, February 9 - 7PM - Wells Fargo Center\n
CATEGORIES:LDS Events
END:VEVENT
BEGIN:VTIMEZONE
TZID:America/New_York
X-LIC-LOCATION:America/New_York
BEGIN:STANDARD
DTSTART:20231105T010000
TZOFFSETFROM:-0400
TZOFFSETTO:-0500
TZNAME:EST
END:STANDARD
END:VTIMEZONE
END:VCALENDAR