BEGIN:VCALENDAR
VERSION:2.0
PRODID:-//wp-events-plugin.com//7.2.3.1//EN
TZID:America/New_York
X-WR-TIMEZONE:America/New_York
BEGIN:VEVENT
UID:188@pbslds.org
DTSTART;TZID=America/New_York:20161021T170000
DTEND;TZID=America/New_York:20161021T200000
DTSTAMP:20161003T184823Z
URL:https://pbslds.org/events/lds-monthly-happy-hour-2016-10-14/
SUMMARY:LDS Monthly Happy Hour
DESCRIPTION:
CATEGORIES:LDS Events
LOCATION:Ramada Newark/Wilmington\, 260 Chapman Road\, Newark\, DE\, 19702\
 , United States
GEO:39.6686363;-75.67323620000002
X-APPLE-STRUCTURED-LOCATION;VALUE=URI;X-ADDRESS=260 Chapman Road\, Newark\,
  DE\, 19702\, United States;X-APPLE-RADIUS=100;X-TITLE=Ramada Newark/Wilmi
 ngton:geo:39.6686363,-75.67323620000002
END:VEVENT
BEGIN:VTIMEZONE
TZID:America/New_York
X-LIC-LOCATION:America/New_York
BEGIN:DAYLIGHT
DTSTART:20160313T030000
TZOFFSETFROM:-0500
TZOFFSETTO:-0400
TZNAME:EDT
END:DAYLIGHT
END:VTIMEZONE
END:VCALENDAR