BEGIN:VCALENDAR
VERSION:2.0
PRODID:-//wp-events-plugin.com//7.2.3.1//EN
TZID:America/New_York
X-WR-TIMEZONE:America/New_York
BEGIN:VEVENT
UID:141@pbslds.org
DTSTART;TZID=America/New_York:20160617T170000
DTEND;TZID=America/New_York:20160617T200000
DTSTAMP:20160601T205948Z
URL:https://pbslds.org/events/lds-monthly-happy-hour-2016-06-10/
SUMMARY:Tri-State Happy Hour (PA Sigmas)
DESCRIPTION:
CATEGORIES:LDS Events
LOCATION:Barnaby's of America\, 1901 Old West Chester Pike\, Havertown\, PA
 \, 19082\, United States
GEO:39.97652920000001;-75.33499840000002
X-APPLE-STRUCTURED-LOCATION;VALUE=URI;X-ADDRESS=1901 Old West Chester Pike\
 , Havertown\, PA\, 19082\, United States;X-APPLE-RADIUS=100;X-TITLE=Barnab
 y's of America:geo:39.97652920000001,-75.33499840000002
END:VEVENT
BEGIN:VTIMEZONE
TZID:America/New_York
X-LIC-LOCATION:America/New_York
BEGIN:DAYLIGHT
DTSTART:20160313T030000
TZOFFSETFROM:-0500
TZOFFSETTO:-0400
TZNAME:EDT
END:DAYLIGHT
END:VTIMEZONE
END:VCALENDAR