BEGIN:VCALENDAR
VERSION:2.0
PRODID:-//wp-events-plugin.com//7.2.3.1//EN
TZID:America/New_York
X-WR-TIMEZONE:America/New_York
BEGIN:VEVENT
UID:628@pbslds.org
DTSTART;TZID=America/New_York:20240109T173000
DTEND;TZID=America/New_York:20240109T213000
DTSTAMP:20240106T042058Z
URL:https://pbslds.org/events/lds-global-founders-day-watch-party-and-cele
 bration/
SUMMARY:LDS Global Founders' Day Watch Party and Celebration
DESCRIPTION:
CATEGORIES:Delaware Events,LDS Events
LOCATION:Salina's Restaurant #2\, 714 Greenbank Road\, Wilmington\, DE\, 19
 808\, United States
GEO:39.735248;-75.635145
X-APPLE-STRUCTURED-LOCATION;VALUE=URI;X-ADDRESS=714 Greenbank Road\, Wilmin
 gton\, DE\, 19808\, United States;X-APPLE-RADIUS=100;X-TITLE=Salina's Rest
 aurant #2:geo:39.735248,-75.635145
END:VEVENT
BEGIN:VTIMEZONE
TZID:America/New_York
X-LIC-LOCATION:America/New_York
BEGIN:STANDARD
DTSTART:20231105T010000
TZOFFSETFROM:-0400
TZOFFSETTO:-0500
TZNAME:EST
END:STANDARD
END:VTIMEZONE
END:VCALENDAR