BEGIN:VCALENDAR
VERSION:2.0
PRODID:-//wp-events-plugin.com//7.2.3.1//EN
TZID:America/New_York
X-WR-TIMEZONE:America/New_York
BEGIN:VEVENT
UID:532@pbslds.org
DTSTART;TZID=America/New_York:20230306T190000
DTEND;TZID=America/New_York:20230306T200000
DTSTAMP:20230227T025319Z
URL:https://pbslds.org/events/lds-chapter-informational/
SUMMARY:LDS Chapter Informational
DESCRIPTION:
CATEGORIES:LDS Events
LOCATION:Goldey-Beacom College\, 4701 Limestone Road\, Wilmington\, DE\, 19
 808\, United States
X-APPLE-STRUCTURED-LOCATION;VALUE=URI;X-ADDRESS=4701 Limestone Road\, Wilmi
 ngton\, DE\, 19808\, United States;X-APPLE-RADIUS=100;X-TITLE=Goldey-Beaco
 m College:geo:0,0
END:VEVENT
BEGIN:VTIMEZONE
TZID:America/New_York
X-LIC-LOCATION:America/New_York
BEGIN:STANDARD
DTSTART:20221106T010000
TZOFFSETFROM:-0400
TZOFFSETTO:-0500
TZNAME:EST
END:STANDARD
END:VTIMEZONE
END:VCALENDAR