BEGIN:VCALENDAR
VERSION:2.0
PRODID:-//wp-events-plugin.com//7.2.3.1//EN
TZID:America/New_York
X-WR-TIMEZONE:America/New_York
BEGIN:VEVENT
UID:177@pbslds.org
DTSTART;TZID=America/New_York:20160416T153000
DTEND;TZID=America/New_York:20160416T173000
DTSTAMP:20160413T194652Z
URL:https://pbslds.org/events/lds-archery-event/
SUMMARY:LDS Archery Event
DESCRIPTION:Fee: $30 per person
CATEGORIES:LDS Events
LOCATION:New Castle 100 Archers\, 2272 Sunset Lake Rd\, Newark\, DE\, 19702
 \, United States
GEO:39.6254725;-75.72147259999997
X-APPLE-STRUCTURED-LOCATION;VALUE=URI;X-ADDRESS=2272 Sunset Lake Rd\, Newar
 k\, DE\, 19702\, United States;X-APPLE-RADIUS=100;X-TITLE=New Castle 100 A
 rchers:geo:39.6254725,-75.72147259999997
END:VEVENT
BEGIN:VTIMEZONE
TZID:America/New_York
X-LIC-LOCATION:America/New_York
BEGIN:DAYLIGHT
DTSTART:20160313T030000
TZOFFSETFROM:-0500
TZOFFSETTO:-0400
TZNAME:EDT
END:DAYLIGHT
END:VTIMEZONE
END:VCALENDAR