BEGIN:VCALENDAR
VERSION:2.0
PRODID:-//wp-events-plugin.com//7.2.3.1//EN
TZID:America/New_York
X-WR-TIMEZONE:America/New_York
BEGIN:VEVENT
UID:629@pbslds.org
DTSTART;TZID=America/New_York:20250322T200000
DTEND;TZID=America/New_York:20250322T235900
DTSTAMP:20250113T031159Z
URL:https://pbslds.org/events/lds-25th-anniversary-celebration-proposed-da
 te/
SUMMARY:LDS 25th Anniversary Celebration
DESCRIPTION:Saturday\, March 22\, 2025 - Executive Banquet and Conference C
 enter\n\nTickets and Ads Info Below at pbslds.org/25\n\n
CATEGORIES:Delaware Events,LDS Events,PBS Eastern Region Events
LOCATION:Executive Banquet and Conference Center\, 205 Executive Drive\, Ne
 wark\, DE\, 19702\, United States
GEO:39.615491;-75.748119
X-APPLE-STRUCTURED-LOCATION;VALUE=URI;X-ADDRESS=205 Executive Drive\, Newar
 k\, DE\, 19702\, United States;X-APPLE-RADIUS=100;X-TITLE=Executive Banque
 t and Conference Center:geo:39.615491,-75.748119
END:VEVENT
BEGIN:VTIMEZONE
TZID:America/New_York
X-LIC-LOCATION:America/New_York
BEGIN:DAYLIGHT
DTSTART:20250309T030000
TZOFFSETFROM:-0500
TZOFFSETTO:-0400
TZNAME:EDT
END:DAYLIGHT
END:VTIMEZONE
END:VCALENDAR