BEGIN:VCALENDAR
VERSION:2.0
PRODID:-//wp-events-plugin.com//7.2.3.1//EN
TZID:America/New_York
X-WR-TIMEZONE:America/New_York
BEGIN:VEVENT
UID:563@pbslds.org
DTSTART;TZID=America/New_York:20230608T190000
DTEND;TZID=America/New_York:20230608T210000
DTSTAMP:20230601T184729Z
URL:https://pbslds.org/events/june-chapter-meeting-3/
SUMMARY:June Chapter Meeting
DESCRIPTION:
CATEGORIES:LDS Chapter Meetings
LOCATION:George Read Middle School\, 314 East Basin Road\, New Castle\, DE\
 , 19720\, United States
X-APPLE-STRUCTURED-LOCATION;VALUE=URI;X-ADDRESS=314 East Basin Road\, New C
 astle\, DE\, 19720\, United States;X-APPLE-RADIUS=100;X-TITLE=George Read 
 Middle School:geo:0,0
END:VEVENT
BEGIN:VTIMEZONE
TZID:America/New_York
X-LIC-LOCATION:America/New_York
BEGIN:DAYLIGHT
DTSTART:20230312T030000
TZOFFSETFROM:-0500
TZOFFSETTO:-0400
TZNAME:EDT
END:DAYLIGHT
END:VTIMEZONE
END:VCALENDAR