BEGIN:VCALENDAR
VERSION:2.0
PRODID:-//wp-events-plugin.com//7.2.3.1//EN
TZID:America/New_York
X-WR-TIMEZONE:America/New_York
BEGIN:VEVENT
UID:682@pbslds.org
DTSTART;TZID=America/New_York:20240301T230000
DTEND;TZID=America/New_York:20240302T234500
DTSTAMP:20240113T195426Z
URL:https://pbslds.org/events/internal-2024-late-dues-deadline/
SUMMARY:INTERNAL 2024 LATE DUES DEADLINE
DESCRIPTION:PLEASE FURNISH 2024 DUES BY NO LATER THAN THIS DATE.\n
CATEGORIES:LDS Events
END:VEVENT
BEGIN:VTIMEZONE
TZID:America/New_York
X-LIC-LOCATION:America/New_York
BEGIN:STANDARD
DTSTART:20231105T010000
TZOFFSETFROM:-0400
TZOFFSETTO:-0500
TZNAME:EST
END:STANDARD
END:VTIMEZONE
END:VCALENDAR