BEGIN:VCALENDAR
VERSION:2.0
PRODID:-//wp-events-plugin.com//7.2.3.1//EN
TZID:America/New_York
X-WR-TIMEZONE:America/New_York
BEGIN:VEVENT
UID:627@pbslds.org
DTSTART;TZID=America/New_York:20231110T180000
DTEND;TZID=America/New_York:20231110T220000
DTSTAMP:20231106T112725Z
URL:https://pbslds.org/events/important-date/
SUMMARY:IMPORTANT DATE
DESCRIPTION:MIP Certified Brothers of LDS: Keep this date open if you can
CATEGORIES:LDS Events
END:VEVENT
BEGIN:VTIMEZONE
TZID:America/New_York
X-LIC-LOCATION:America/New_York
BEGIN:STANDARD
DTSTART:20231105T010000
TZOFFSETFROM:-0400
TZOFFSETTO:-0500
TZNAME:EST
END:STANDARD
END:VTIMEZONE
END:VCALENDAR