BEGIN:VCALENDAR
VERSION:2.0
PRODID:-//wp-events-plugin.com//7.2.3.1//EN
TZID:America/New_York
X-WR-TIMEZONE:America/New_York
BEGIN:VEVENT
UID:622@pbslds.org
DTSTART;TZID=America/New_York:20240112T100000
DTEND;TZID=America/New_York:20240113T220000
DTSTAMP:20231011T173251Z
URL:https://pbslds.org/events/harrisburg-area-joint-founders-day-weekend/
SUMMARY:Harrisburg Area Joint Founders' Day Weekend
DESCRIPTION:Click the image to RSVP for this event!\n\n\n&nbsp\;
CATEGORIES:PBS Eastern Region Events,Visiting Sigma Chapter
 Events,Visiting Zeta Chapter Events
LOCATION:Hollywood Casino\, 777 Hollywood Blvd\, Grantville\, PA \, 17028\,
  United States
X-APPLE-STRUCTURED-LOCATION;VALUE=URI;X-ADDRESS=777 Hollywood Blvd\, Grantv
 ille\, PA \, 17028\, United States;X-APPLE-RADIUS=100;X-TITLE=Hollywood Ca
 sino:geo:0,0
END:VEVENT
BEGIN:VTIMEZONE
TZID:America/New_York
X-LIC-LOCATION:America/New_York
BEGIN:STANDARD
DTSTART:20231105T010000
TZOFFSETFROM:-0400
TZOFFSETTO:-0500
TZNAME:EST
END:STANDARD
END:VTIMEZONE
END:VCALENDAR