BEGIN:VCALENDAR
VERSION:2.0
PRODID:-//wp-events-plugin.com//7.2.3.1//EN
TZID:America/New_York
X-WR-TIMEZONE:America/New_York
BEGIN:VEVENT
UID:179@pbslds.org
DTSTART;TZID=America/New_York:20160520T220000
DTEND;TZID=America/New_York:20160521T010000
DTSTAMP:20160513T041944Z
URL:https://pbslds.org/events/golf-tournament-after-party/
SUMMARY:Golf Tournament After Party
DESCRIPTION:
CATEGORIES:LDS Events
LOCATION:TwoNineNine Old School Grill\, 380 E. Main Street\, Middletown\, D
 E\, 19709\, United States
GEO:39.4497616;-75.7037527
X-APPLE-STRUCTURED-LOCATION;VALUE=URI;X-ADDRESS=380 E. Main Street\, Middle
 town\, DE\, 19709\, United States;X-APPLE-RADIUS=100;X-TITLE=TwoNineNine O
 ld School Grill:geo:39.4497616,-75.7037527
END:VEVENT
BEGIN:VTIMEZONE
TZID:America/New_York
X-LIC-LOCATION:America/New_York
BEGIN:DAYLIGHT
DTSTART:20160313T030000
TZOFFSETFROM:-0500
TZOFFSETTO:-0400
TZNAME:EDT
END:DAYLIGHT
END:VTIMEZONE
END:VCALENDAR