BEGIN:VCALENDAR
VERSION:2.0
PRODID:-//wp-events-plugin.com//7.2.3.1//EN
TZID:America/New_York
X-WR-TIMEZONE:America/New_York
BEGIN:VEVENT
UID:467@pbslds.org
DTSTART;TZID=America/New_York:20220618T070000
DTEND;TZID=America/New_York:20220618T130000
DTSTAMP:20220602T115515Z
URL:https://pbslds.org/events/gamma-theta-lambda-ed-foundation-golf-outing
 /
SUMMARY:Gamma Theta Lambda Ed Foundation Golf Outing (Alphas)
DESCRIPTION:
CATEGORIES:NPHC Events
LOCATION:Back Creek Golf Club\, 101 Back Creek Dr\, Middletown\, DE\, 19709
 \, United States
X-APPLE-STRUCTURED-LOCATION;VALUE=URI;X-ADDRESS=101 Back Creek Dr\, Middlet
 own\, DE\, 19709\, United States;X-APPLE-RADIUS=100;X-TITLE=Back Creek Gol
 f Club:geo:0,0
END:VEVENT
BEGIN:VTIMEZONE
TZID:America/New_York
X-LIC-LOCATION:America/New_York
BEGIN:DAYLIGHT
DTSTART:20220313T030000
TZOFFSETFROM:-0500
TZOFFSETTO:-0400
TZNAME:EDT
END:DAYLIGHT
END:VTIMEZONE
END:VCALENDAR