BEGIN:VCALENDAR
VERSION:2.0
PRODID:-//wp-events-plugin.com//7.2.3.1//EN
TZID:America/New_York
X-WR-TIMEZONE:America/New_York
BEGIN:VEVENT
UID:466@pbslds.org
DTSTART;TZID=America/New_York:20220610T190000
DTEND;TZID=America/New_York:20220610T210000
DTSTAMP:20220524T202545Z
URL:https://pbslds.org/events/frat-fridays-june/
SUMMARY:"Frat Fridays" June
DESCRIPTION:
CATEGORIES:LDS Events
LOCATION:Farm A Sea Bistro And Crafthouse\, 56 S Old Baltimore Pike\, Newar
 k\, DE\, 19702\, United States
GEO:39.6624499;-75.66363380000001
X-APPLE-STRUCTURED-LOCATION;VALUE=URI;X-ADDRESS=56 S Old Baltimore Pike\, N
 ewark\, DE\, 19702\, United States;X-APPLE-RADIUS=100;X-TITLE=Farm A Sea B
 istro And Crafthouse:geo:39.6624499,-75.66363380000001
END:VEVENT
BEGIN:VTIMEZONE
TZID:America/New_York
X-LIC-LOCATION:America/New_York
BEGIN:DAYLIGHT
DTSTART:20220313T030000
TZOFFSETFROM:-0500
TZOFFSETTO:-0400
TZNAME:EDT
END:DAYLIGHT
END:VTIMEZONE
END:VCALENDAR