BEGIN:VCALENDAR
VERSION:2.0
PRODID:-//wp-events-plugin.com//7.2.3.1//EN
TZID:America/New_York
X-WR-TIMEZONE:America/New_York
BEGIN:VEVENT
UID:821@pbslds.org
DTSTART;TZID=America/New_York:20260109T180000
DTEND;TZID=America/New_York:20260109T230000
DTSTAMP:20251231T221505Z
URL:https://pbslds.org/events/founders-day-celebration-fellowship-the-mond
 ay-club/
SUMMARY:Founders Day Celebration Fellowship @ The Monday Club
DESCRIPTION:
CATEGORIES:LDS Events
LOCATION:The Monday Club\, 4020 New Castle Ave\, New Castle\, PA\, 19720\, 
 United States
GEO:39.7129058;-75.54753770000002
X-APPLE-STRUCTURED-LOCATION;VALUE=URI;X-ADDRESS=4020 New Castle Ave\, New C
 astle\, PA\, 19720\, United States;X-APPLE-RADIUS=100;X-TITLE=The Monday C
 lub:geo:39.7129058,-75.54753770000002
END:VEVENT
BEGIN:VTIMEZONE
TZID:America/New_York
X-LIC-LOCATION:America/New_York
BEGIN:STANDARD
DTSTART:20251102T010000
TZOFFSETFROM:-0400
TZOFFSETTO:-0500
TZNAME:EST
END:STANDARD
END:VTIMEZONE
END:VCALENDAR