BEGIN:VCALENDAR
VERSION:2.0
PRODID:-//wp-events-plugin.com//7.2.3.1//EN
TZID:America/New_York
X-WR-TIMEZONE:America/New_York
BEGIN:VEVENT
UID:681@pbslds.org
DTSTART;TZID=America/New_York:20240114T153000
DTEND;TZID=America/New_York:20240114T173000
DTSTAMP:20240113T195211Z
URL:https://pbslds.org/events/founders-day-celebration-dover/
SUMMARY:Founders' Day Celebration (Dover)
DESCRIPTION:
CATEGORIES:Visiting Sigma Chapter Events,Visiting Zeta Chapter Events
LOCATION:Delaware State University\, 1200 N Dupont Hwy\, Dover\, DE\, Unite
 d States
GEO:39.18844290000001;-75.53957020000001
X-APPLE-STRUCTURED-LOCATION;VALUE=URI;X-ADDRESS=1200 N Dupont Hwy\, Dover\,
  DE\, United States;X-APPLE-RADIUS=100;X-TITLE=Delaware State University:g
 eo:39.18844290000001,-75.53957020000001
END:VEVENT
BEGIN:VTIMEZONE
TZID:America/New_York
X-LIC-LOCATION:America/New_York
BEGIN:STANDARD
DTSTART:20231105T010000
TZOFFSETFROM:-0400
TZOFFSETTO:-0500
TZNAME:EST
END:STANDARD
END:VTIMEZONE
END:VCALENDAR