BEGIN:VCALENDAR
VERSION:2.0
PRODID:-//wp-events-plugin.com//7.2.3.1//EN
TZID:America/New_York
X-WR-TIMEZONE:America/New_York
BEGIN:VEVENT
UID:496@pbslds.org
DTSTART;TZID=America/New_York:20221006T183000
DTEND;TZID=America/New_York:20221006T200000
DTSTAMP:20221003T144101Z
URL:https://pbslds.org/events/fight-the-good-fight-al-sharpton-ud/
SUMMARY:"Fight the Good Fight" (Al Sharpton @ UD)
DESCRIPTION:RSVP Required--if attending\, please do so ASAP\n\nPlease click
  the flyer to RSVP\n\n
CATEGORIES:Delaware Events
LOCATION:University of Delaware - Mitchell Hall\, 134 The Green\, Newark\, 
 DE\, United States
X-APPLE-STRUCTURED-LOCATION;VALUE=URI;X-ADDRESS=134 The Green\, Newark\, DE
 \, United States;X-APPLE-RADIUS=100;X-TITLE=University of Delaware - Mitch
 ell Hall:geo:0,0
END:VEVENT
BEGIN:VTIMEZONE
TZID:America/New_York
X-LIC-LOCATION:America/New_York
BEGIN:DAYLIGHT
DTSTART:20220313T030000
TZOFFSETFROM:-0500
TZOFFSETTO:-0400
TZNAME:EDT
END:DAYLIGHT
END:VTIMEZONE
END:VCALENDAR