BEGIN:VCALENDAR
VERSION:2.0
PRODID:-//wp-events-plugin.com//7.2.3.1//EN
TZID:America/New_York
X-WR-TIMEZONE:America/New_York
BEGIN:VEVENT
UID:134@pbslds.org
DTSTART;TZID=America/New_York;VALUE=DATE:20161119
DTEND;TZID=America/New_York;VALUE=DATE:20161120
DTSTAMP:20160119T015254Z
URL:https://pbslds.org/events/father-daughter-dance/
SUMMARY:Father Daughter Dance
DESCRIPTION:
CATEGORIES:Events
END:VEVENT
BEGIN:VTIMEZONE
TZID:America/New_York
X-LIC-LOCATION:America/New_York
BEGIN:STANDARD
DTSTART:20161106T010000
TZOFFSETFROM:-0400
TZOFFSETTO:-0500
TZNAME:EST
END:STANDARD
END:VTIMEZONE
END:VCALENDAR