BEGIN:VCALENDAR
VERSION:2.0
PRODID:-//wp-events-plugin.com//7.2.3.1//EN
TZID:America/New_York
X-WR-TIMEZONE:America/New_York
BEGIN:VEVENT
UID:193@pbslds.org
DTSTART;TZID=America/New_York:20161112T191400
DTEND;TZID=America/New_York:20161112T191400
DTSTAMP:20161108T221331Z
URL:https://pbslds.org/events/fa2016-complication/
SUMMARY:ΛΔΣ Fall 2016 Probate: Complication
DESCRIPTION:Come out and see the newest members of Phi Beta Sigma Fraternit
 y\, Inc. at the Lambda Delta Sigma Probate for "Complication"\, Fall 2016.
 \n\n&nbsp\;\n\n
CATEGORIES:LDS Events
LOCATION:TwoNineNine Old School Grill\, 380 E. Main Street\, Middletown\, D
 E\, 19709\, United States
GEO:39.4497616;-75.7037527
X-APPLE-STRUCTURED-LOCATION;VALUE=URI;X-ADDRESS=380 E. Main Street\, Middle
 town\, DE\, 19709\, United States;X-APPLE-RADIUS=100;X-TITLE=TwoNineNine O
 ld School Grill:geo:39.4497616,-75.7037527
END:VEVENT
BEGIN:VTIMEZONE
TZID:America/New_York
X-LIC-LOCATION:America/New_York
BEGIN:STANDARD
DTSTART:20161106T010000
TZOFFSETFROM:-0400
TZOFFSETTO:-0500
TZNAME:EST
END:STANDARD
END:VTIMEZONE
END:VCALENDAR