BEGIN:VCALENDAR
VERSION:2.0
PRODID:-//wp-events-plugin.com//7.2.3.1//EN
TZID:America/New_York
X-WR-TIMEZONE:America/New_York
BEGIN:VEVENT
UID:181@pbslds.org
DTSTART;TZID=America/New_York:20160521T110000
DTEND;TZID=America/New_York:20160521T153000
DTSTAMP:20160513T042635Z
URL:https://pbslds.org/events/epz-old-country-buffet-fundraiser/
SUMMARY:EPZ Old Country Buffet Fundraiser
DESCRIPTION:Cost: $12
CATEGORIES:EPZ Events
LOCATION:Old Country Buffet\, 1325 New Churchmans Road\, Newark\, DE\, 1971
 3\, United States
GEO:39.6918308;-75.66543489999998
X-APPLE-STRUCTURED-LOCATION;VALUE=URI;X-ADDRESS=1325 New Churchmans Road\, 
 Newark\, DE\, 19713\, United States;X-APPLE-RADIUS=100;X-TITLE=Old Country
  Buffet:geo:39.6918308,-75.66543489999998
END:VEVENT
BEGIN:VTIMEZONE
TZID:America/New_York
X-LIC-LOCATION:America/New_York
BEGIN:DAYLIGHT
DTSTART:20160313T030000
TZOFFSETFROM:-0500
TZOFFSETTO:-0400
TZNAME:EDT
END:DAYLIGHT
END:VTIMEZONE
END:VCALENDAR