BEGIN:VCALENDAR
VERSION:2.0
PRODID:-//wp-events-plugin.com//7.2.3.1//EN
TZID:America/New_York
X-WR-TIMEZONE:America/New_York
BEGIN:VEVENT
UID:541@pbslds.org
DTSTART;TZID=America/New_York:20230422T130000
DTEND;TZID=America/New_York:20230422T160000
DTSTAMP:20230327T000958Z
URL:https://pbslds.org/events/epz-baby-blue-revue/
SUMMARY:EPZ "Baby Blue Revue"
DESCRIPTION:Click the image to purchase a ticket. Your support is appreciat
 ed!\n
CATEGORIES:EPZ Events
LOCATION:Tilton Mansion\, 805 North Broom Street\, Wilmington \, DE\, Unite
 d States
X-APPLE-STRUCTURED-LOCATION;VALUE=URI;X-ADDRESS=805 North Broom Street\, Wi
 lmington \, DE\, United States;X-APPLE-RADIUS=100;X-TITLE=Tilton Mansion:g
 eo:0,0
END:VEVENT
BEGIN:VTIMEZONE
TZID:America/New_York
X-LIC-LOCATION:America/New_York
BEGIN:DAYLIGHT
DTSTART:20230312T030000
TZOFFSETFROM:-0500
TZOFFSETTO:-0400
TZNAME:EDT
END:DAYLIGHT
END:VTIMEZONE
END:VCALENDAR