BEGIN:VCALENDAR
VERSION:2.0
PRODID:-//wp-events-plugin.com//7.2.3.1//EN
TZID:America/New_York
X-WR-TIMEZONE:America/New_York
BEGIN:VEVENT
UID:150@pbslds.org
DTSTART;TZID=America/New_York:20160521T210000
DTEND;TZID=America/New_York:20160522T010000
DTSTAMP:20160513T043044Z
URL:https://pbslds.org/events/epz-9th-annual-bowling/
SUMMARY:EPZ 9th Annutal Bowling Extravaganza
DESCRIPTION:
CATEGORIES:EPZ Events
LOCATION:Pleasant Hill Lanes\, 1001 W. Newport Pike\, Wilmington\, DE\, 198
 04\, United States
GEO:39.715311;-75.620003
X-APPLE-STRUCTURED-LOCATION;VALUE=URI;X-ADDRESS=1001 W. Newport Pike\, Wilm
 ington\, DE\, 19804\, United States;X-APPLE-RADIUS=100;X-TITLE=Pleasant Hi
 ll Lanes:geo:39.715311,-75.620003
END:VEVENT
BEGIN:VTIMEZONE
TZID:America/New_York
X-LIC-LOCATION:America/New_York
BEGIN:DAYLIGHT
DTSTART:20160313T030000
TZOFFSETFROM:-0500
TZOFFSETTO:-0400
TZNAME:EDT
END:DAYLIGHT
END:VTIMEZONE
END:VCALENDAR