BEGIN:VCALENDAR
VERSION:2.0
PRODID:-//wp-events-plugin.com//7.2.3.1//EN
TZID:America/New_York
X-WR-TIMEZONE:America/New_York
BEGIN:VEVENT
UID:192@pbslds.org
DTSTART;TZID=America/New_York:20160826T170000
DTEND;TZID=America/New_York:20160826T200000
DTSTAMP:20160810T212143Z
URL:https://pbslds.org/events/epz-7th-annual-school-supply-drive-happy-hou
 r/
SUMMARY:EPZ 7th Annual School Supply Drive Happy Hour
DESCRIPTION:
CATEGORIES:EPZ Events
LOCATION:Bobbi Rhians\, 302 N. Market Street\, Wilmington\, DE\, United Sta
 tes
GEO:39.7399218;-75.55161290000001
X-APPLE-STRUCTURED-LOCATION;VALUE=URI;X-ADDRESS=302 N. Market Street\, Wilm
 ington\, DE\, United States;X-APPLE-RADIUS=100;X-TITLE=Bobbi Rhians:geo:39
 .7399218,-75.55161290000001
END:VEVENT
BEGIN:VTIMEZONE
TZID:America/New_York
X-LIC-LOCATION:America/New_York
BEGIN:DAYLIGHT
DTSTART:20160313T030000
TZOFFSETFROM:-0500
TZOFFSETTO:-0400
TZNAME:EDT
END:DAYLIGHT
END:VTIMEZONE
END:VCALENDAR