BEGIN:VCALENDAR
VERSION:2.0
PRODID:-//wp-events-plugin.com//7.2.3.1//EN
TZID:America/New_York
X-WR-TIMEZONE:America/New_York
BEGIN:VEVENT
UID:149@pbslds.org
DTSTART;TZID=America/New_York:20160320T150000
DTEND;TZID=America/New_York:20160320T180000
DTSTAMP:20160210T043221Z
URL:https://pbslds.org/events/epz-10th-annual-finer-womanhood-high-tea/
SUMMARY:EPZ 10th Annual Finer Womanhood High Tea
DESCRIPTION:Celebrating 10 Years of Excellence\nZeta Phi Beta Sorority\, In
 c.\nEpsilon Rho Zeta Chapter\n\nTickets: $50\n\na portion of the proceeds 
 will benefit the Katherine B. Ross Scholarship Fund\n\n
CATEGORIES:EPZ Events
LOCATION:Hotel duPont\,  42 W 11th Street\, Wilmington\, DE\, 19801\, Unite
 d States
GEO:39.7464836;-75.5478458
X-APPLE-STRUCTURED-LOCATION;VALUE=URI;X-ADDRESS= 42 W 11th Street\, Wilming
 ton\, DE\, 19801\, United States;X-APPLE-RADIUS=100;X-TITLE=Hotel duPont:g
 eo:39.7464836,-75.5478458
END:VEVENT
BEGIN:VTIMEZONE
TZID:America/New_York
X-LIC-LOCATION:America/New_York
BEGIN:DAYLIGHT
DTSTART:20160313T030000
TZOFFSETFROM:-0500
TZOFFSETTO:-0400
TZNAME:EDT
END:DAYLIGHT
END:VTIMEZONE
END:VCALENDAR